BEGIN:VCALENDAR
VERSION:2.0
PRODID:LFV Website-Kit
METHOD:PUBLISH
BEGIN:VEVENT
UID:lfv-8ee030d8-1dd4-473b-b9f8-31596a9387c4
LOCATION:
SUMMARY:Gruppenübung
DESCRIPTION:Übung Gruppe 1\n\nTermin Link: http://www.ff-badgriesbach.de/termine/gruppenubung-2/
URL:http://www.ff-badgriesbach.de/termine/gruppenubung-2/
CLASS:PRIVATE
DTSTART;TZID=Europe/Berlin:20260602T190000
DTEND;TZID=Europe/Berlin:20260602T200000
DTSTAMP:20260424T172803Z
END:VEVENT
END:VCALENDAR