BEGIN:VCALENDAR
VERSION:2.0
PRODID:LFV Website-Kit
METHOD:PUBLISH
BEGIN:VEVENT
UID:lfv-5746cc5a-f034-4585-a17e-c497b71705da
LOCATION:
SUMMARY:Gruppenübung
DESCRIPTION:Übung Gruppe 2\n\nTermin Link: http://www.ff-badgriesbach.de/termine/gruppenubung-3/
URL:http://www.ff-badgriesbach.de/termine/gruppenubung-3/
CLASS:PRIVATE
DTSTART;TZID=Europe/Berlin:20260609T190000
DTEND;TZID=Europe/Berlin:20260609T200000
DTSTAMP:20260424T184750Z
END:VEVENT
END:VCALENDAR