BEGIN:VCALENDAR
VERSION:2.0
PRODID:LFV Website-Kit
METHOD:PUBLISH
BEGIN:VEVENT
UID:lfv-ba20b22b-8a13-4138-9131-46abf3bd684a
LOCATION:
SUMMARY:Jugendübung
DESCRIPTION:Termin Link: http://www.ff-badgriesbach.de/termine/jugendubung-10/
URL:http://www.ff-badgriesbach.de/termine/jugendubung-10/
CLASS:PRIVATE
DTSTART;TZID=Europe/Berlin:20260520T190000
DTEND;TZID=Europe/Berlin:20260520T200000
DTSTAMP:20260424T154610Z
END:VEVENT
END:VCALENDAR