BEGIN:VCALENDAR
VERSION:2.0
PRODID:LFV Website-Kit
METHOD:PUBLISH
BEGIN:VEVENT
UID:lfv-f5f7b29d-f73d-4d15-8f6b-64a07f462d25
LOCATION:
SUMMARY:Jugendübung
DESCRIPTION:Termin Link: http://www.ff-badgriesbach.de/termine/jugendubung-8/
URL:http://www.ff-badgriesbach.de/termine/jugendubung-8/
CLASS:PRIVATE
DTSTART;TZID=Europe/Berlin:20260429T190000
DTEND;TZID=Europe/Berlin:20260429T200000
DTSTAMP:20260424T140618Z
END:VEVENT
END:VCALENDAR