BEGIN:VCALENDAR
VERSION:2.0
PRODID:LFV Website-Kit
METHOD:PUBLISH
BEGIN:VEVENT
UID:lfv-54491082-8f13-44a1-b3d3-614b9c47f791
LOCATION:
SUMMARY:Jugendübung
DESCRIPTION:Termin Link: http://www.ff-badgriesbach.de/termine/jugendubung-9/
URL:http://www.ff-badgriesbach.de/termine/jugendubung-9/
CLASS:PRIVATE
DTSTART;TZID=Europe/Berlin:20260504T190000
DTEND;TZID=Europe/Berlin:20260504T200000
DTSTAMP:20260424T140618Z
END:VEVENT
END:VCALENDAR