BEGIN:VCALENDAR
VERSION:2.0
PRODID:LFV Website-Kit
METHOD:PUBLISH
BEGIN:VEVENT
UID:lfv-fd2fe8a9-8abd-4fdc-a031-5afb2049634d
LOCATION:
SUMMARY:Sommerfestival am Kurplatz
DESCRIPTION:Termin Link: http://www.ff-badgriesbach.de/termine/sommerfestival-am-kurplatz/
URL:http://www.ff-badgriesbach.de/termine/sommerfestival-am-kurplatz/
CLASS:PRIVATE
DTSTART;VALUE=DATE:20260625
DTEND;VALUE=DATE:20260628
DTSTAMP:20260424T203526Z
END:VEVENT
END:VCALENDAR