BEGIN:VCALENDAR
VERSION:2.0
PRODID:LFV Website-Kit
METHOD:PUBLISH
BEGIN:VEVENT
UID:lfv-dd588bc9-c01e-4375-bffa-542ae4796adc
LOCATION:
SUMMARY:Zugübung
DESCRIPTION:Termin Link: http://www.ff-badgriesbach.de/termine/zugubung-12/
URL:http://www.ff-badgriesbach.de/termine/zugubung-12/
CLASS:PRIVATE
DTSTART;TZID=Europe/Berlin:20260505T190000
DTEND;TZID=Europe/Berlin:20260505T200000
DTSTAMP:20260424T140650Z
END:VEVENT
END:VCALENDAR